BEGIN:VCALENDAR
VERSION:2.0
PRODID:-//Westhill School District Educational Foundation - ECPv6.6.4.2//NONSGML v1.0//EN
CALSCALE:GREGORIAN
METHOD:PUBLISH
X-WR-CALNAME:Westhill School District Educational Foundation
X-ORIGINAL-URL:https://westhillfoundation.com
X-WR-CALDESC:Events for Westhill School District Educational Foundation
REFRESH-INTERVAL;VALUE=DURATION:PT1H
X-Robots-Tag:noindex
X-PUBLISHED-TTL:PT1H
BEGIN:VTIMEZONE
TZID:America/New_York
BEGIN:DAYLIGHT
TZOFFSETFROM:-0500
TZOFFSETTO:-0400
TZNAME:EDT
DTSTART:20240310T070000
END:DAYLIGHT
BEGIN:STANDARD
TZOFFSETFROM:-0400
TZOFFSETTO:-0500
TZNAME:EST
DTSTART:20241103T060000
END:STANDARD
END:VTIMEZONE
BEGIN:VEVENT
DTSTART;TZID=America/New_York:20241005T180000
DTEND;TZID=America/New_York:20241005T220000
DTSTAMP:20260422T062525
CREATED:20240223T172852Z
LAST-MODIFIED:20240929T121557Z
UID:1199-1728151200-1728165600@westhillfoundation.com
SUMMARY:2024 Westhill Educational Foundation Gala
DESCRIPTION:  \nWe are excited to announce the 2024 Westhill Educational Foundation Gala\, an evening of celebration! Join us for dinner\, entertainment and recognition of our distinguished supporters and members of the Westhill Community. Click here to reserve your tickets now. \nThank you to Our Sponsors!
URL:https://westhillfoundation.com/event/2024-gala/
LOCATION:Bellevue Country Club\, 1901 Glenwood Ave\, Syracuse\, NY\, 13207\, United States
END:VEVENT
END:VCALENDAR